BEGIN:VCALENDAR
VERSION:2.0
PRODID:-//Angier Chamber of Commerce - ECPv6.15.18//NONSGML v1.0//EN
CALSCALE:GREGORIAN
METHOD:PUBLISH
X-ORIGINAL-URL:https://www.angierchamber.org
X-WR-CALDESC:Events for Angier Chamber of Commerce
REFRESH-INTERVAL;VALUE=DURATION:PT1H
X-Robots-Tag:noindex
X-PUBLISHED-TTL:PT1H
BEGIN:VTIMEZONE
TZID:UTC
BEGIN:STANDARD
TZOFFSETFROM:+0000
TZOFFSETTO:+0000
TZNAME:UTC
DTSTART:20250101T000000
END:STANDARD
END:VTIMEZONE
BEGIN:VEVENT
DTSTART;VALUE=DATE:20260119
DTEND;VALUE=DATE:20260214
DTSTAMP:20260425T014436
CREATED:20260106T182326Z
LAST-MODIFIED:20260106T182328Z
UID:10001142-1768780800-1771027199@www.angierchamber.org
SUMMARY:Angier Spring Sports Registration
DESCRIPTION:
URL:https://www.angierchamber.org/event/angier-spring-sports-registration/
LOCATION:NC
ATTACH;FMTTYPE=image/jpeg:https://www.angierchamber.org/wp-content/uploads/2026/01/609012446_1179771081000912_269913968278084809_n.jpg
END:VEVENT
BEGIN:VEVENT
DTSTART;TZID=UTC:20260128T170000
DTEND;TZID=UTC:20260128T180000
DTSTAMP:20260425T014436
CREATED:20260127T153207Z
LAST-MODIFIED:20260127T153209Z
UID:10001228-1769619600-1769623200@www.angierchamber.org
SUMMARY:Valentine Resin Art with Hodge Hall
DESCRIPTION:
URL:https://www.angierchamber.org/event/valentine-resin-art-with-hodge-hall/
LOCATION:Hodge Hall\, 155 S. Raleigh Street\, Angier\, NC\, 27501
ATTACH;FMTTYPE=image/jpeg:https://www.angierchamber.org/wp-content/uploads/2026/01/618459030_1402189041601303_3160909230232116183_n.jpg
END:VEVENT
BEGIN:VEVENT
DTSTART;TZID=UTC:20260128T180000
DTEND;TZID=UTC:20260128T190000
DTSTAMP:20260425T014436
CREATED:20251229T164748Z
LAST-MODIFIED:20251229T164750Z
UID:10001080-1769623200-1769626800@www.angierchamber.org
SUMMARY:Pilates with Michelle Moore Fitness Nutrition and Wellness
DESCRIPTION:
URL:https://www.angierchamber.org/event/pilates-with-michelle-moore-fitness-nutrition-and-wellness-23/
LOCATION:Angier Chamber of Commerce\, United States
ATTACH;FMTTYPE=image/jpeg:https://www.angierchamber.org/wp-content/uploads/2025/12/604800326_888913093845324_6757664346823843320_n-1.jpg
ORGANIZER;CN="Michelle Moore Fitness%2C Nutrition%2C and Wellness":MAILTO:Mmooreblessed@gmail.com
END:VEVENT
BEGIN:VEVENT
DTSTART;TZID=UTC:20260128T190000
DTEND;TZID=UTC:20260128T210000
DTSTAMP:20260425T014436
CREATED:20260127T152153Z
LAST-MODIFIED:20260127T152155Z
UID:10001223-1769626800-1769634000@www.angierchamber.org
SUMMARY:Music Bingo with Wingin' It Angier
DESCRIPTION:
URL:https://www.angierchamber.org/event/music-bingo-with-wingin-it-angier-16/
LOCATION:Wingin’ It-Angier\, 546 W Church Street\, Angier\, NC\, 27501
ATTACH;FMTTYPE=image/jpeg:https://www.angierchamber.org/wp-content/uploads/2026/01/605521972_752695044536569_1332439597071758233_n.jpg
END:VEVENT
BEGIN:VEVENT
DTSTART;TZID=UTC:20260128T190000
DTEND;TZID=UTC:20260128T220000
DTSTAMP:20260425T014436
CREATED:20251212T155241Z
LAST-MODIFIED:20251212T155243Z
UID:10001060-1769626800-1769637600@www.angierchamber.org
SUMMARY:Music Bingo with Napper Tandy's
DESCRIPTION:
URL:https://www.angierchamber.org/event/music-bingo-with-napper-tandys-22/
LOCATION:Napper Tandy’s Public House and Restaurant\, 27 South Broad Street East\, Angier\, NC\, 27501\, United States
ATTACH;FMTTYPE=image/jpeg:https://www.angierchamber.org/wp-content/uploads/2025/12/596610121_122146662242655911_5064157935860637058_n-2.jpg
END:VEVENT
END:VCALENDAR