BEGIN:VCALENDAR
VERSION:2.0
PRODID:-//Angier Chamber of Commerce - ECPv6.15.18//NONSGML v1.0//EN
CALSCALE:GREGORIAN
METHOD:PUBLISH
X-WR-CALNAME:Angier Chamber of Commerce
X-ORIGINAL-URL:https://www.angierchamber.org
X-WR-CALDESC:Events for Angier Chamber of Commerce
REFRESH-INTERVAL;VALUE=DURATION:PT1H
X-Robots-Tag:noindex
X-PUBLISHED-TTL:PT1H
BEGIN:VTIMEZONE
TZID:UTC
BEGIN:STANDARD
TZOFFSETFROM:+0000
TZOFFSETTO:+0000
TZNAME:UTC
DTSTART:20250101T000000
END:STANDARD
END:VTIMEZONE
BEGIN:VEVENT
DTSTART;VALUE=DATE:20260119
DTEND;VALUE=DATE:20260214
DTSTAMP:20260425T014419
CREATED:20260106T182326Z
LAST-MODIFIED:20260106T182328Z
UID:10001142-1768780800-1771027199@www.angierchamber.org
SUMMARY:Angier Spring Sports Registration
DESCRIPTION:
URL:https://www.angierchamber.org/event/angier-spring-sports-registration/
LOCATION:NC
ATTACH;FMTTYPE=image/jpeg:https://www.angierchamber.org/wp-content/uploads/2026/01/609012446_1179771081000912_269913968278084809_n.jpg
END:VEVENT
BEGIN:VEVENT
DTSTART;TZID=UTC:20260122T100000
DTEND;TZID=UTC:20260122T110000
DTSTAMP:20260425T014419
CREATED:20251229T183258Z
LAST-MODIFIED:20251229T183300Z
UID:10001116-1769076000-1769079600@www.angierchamber.org
SUMMARY:Kinder Jam with Ellington Studios
DESCRIPTION:
URL:https://www.angierchamber.org/event/kinder-jam-with-ellington-studios-3/
LOCATION:Napper Tandy’s Public House and Restaurant\, 27 South Broad Street East\, Angier\, NC\, 27501\, United States
ATTACH;FMTTYPE=image/jpeg:https://www.angierchamber.org/wp-content/uploads/2025/12/601033768_1451862666946044_8220951526801540770_n-1.jpg
END:VEVENT
BEGIN:VEVENT
DTSTART;TZID=UTC:20260122T181500
DTEND;TZID=UTC:20260122T190000
DTSTAMP:20260425T014419
CREATED:20260106T212846Z
LAST-MODIFIED:20260106T212913Z
UID:10001169-1769105700-1769108400@www.angierchamber.org
SUMMARY:SYNC with Ellington Studios
DESCRIPTION:
URL:https://www.angierchamber.org/event/sync-with-ellington-studios-3/
LOCATION:Ellington Studios\, 54 South Raleigh Street\, Angier\, NC\, 27501\, United States
ATTACH;FMTTYPE=image/jpeg:https://www.angierchamber.org/wp-content/uploads/2026/01/608451724_1464316129034031_2485497123182272138_n.jpg
END:VEVENT
BEGIN:VEVENT
DTSTART;TZID=UTC:20260122T190000
DTEND;TZID=UTC:20260122T210000
DTSTAMP:20260425T014419
CREATED:20260106T204943Z
LAST-MODIFIED:20260106T204944Z
UID:10001153-1769108400-1769115600@www.angierchamber.org
SUMMARY:Paige King Johnson performing live at Napper Tandy's
DESCRIPTION:
URL:https://www.angierchamber.org/event/paige-king-johnson-performing-live-at-napper-tandys-3/
LOCATION:Napper Tandy’s Public House and Restaurant\, 27 South Broad Street East\, Angier\, NC\, 27501\, United States
ATTACH;FMTTYPE=image/jpeg:https://www.angierchamber.org/wp-content/uploads/2026/01/608906600_122149118072655911_8775328472934213996_n.jpg
END:VEVENT
END:VCALENDAR