BEGIN:VCALENDAR
VERSION:2.0
PRODID:-//Angier Chamber of Commerce - ECPv6.15.18//NONSGML v1.0//EN
CALSCALE:GREGORIAN
METHOD:PUBLISH
X-WR-CALNAME:Angier Chamber of Commerce
X-ORIGINAL-URL:https://www.angierchamber.org
X-WR-CALDESC:Events for Angier Chamber of Commerce
REFRESH-INTERVAL;VALUE=DURATION:PT1H
X-Robots-Tag:noindex
X-PUBLISHED-TTL:PT1H
BEGIN:VTIMEZONE
TZID:UTC
BEGIN:STANDARD
TZOFFSETFROM:+0000
TZOFFSETTO:+0000
TZNAME:UTC
DTSTART:20250101T000000
END:STANDARD
END:VTIMEZONE
BEGIN:VEVENT
DTSTART;VALUE=DATE:20260119
DTEND;VALUE=DATE:20260120
DTSTAMP:20260425T014425
CREATED:20260105T185431Z
LAST-MODIFIED:20260105T185433Z
UID:10001132-1768780800-1768867199@www.angierchamber.org
SUMMARY:Chamber and DMV Closed
DESCRIPTION:
URL:https://www.angierchamber.org/event/chamber-and-dmv-closed-2/
LOCATION:NC
ATTACH;FMTTYPE=image/png:https://www.angierchamber.org/wp-content/uploads/2026/01/Dates.png
END:VEVENT
BEGIN:VEVENT
DTSTART;VALUE=DATE:20260119
DTEND;VALUE=DATE:20260214
DTSTAMP:20260425T014425
CREATED:20260106T182326Z
LAST-MODIFIED:20260106T182328Z
UID:10001142-1768780800-1771027199@www.angierchamber.org
SUMMARY:Angier Spring Sports Registration
DESCRIPTION:
URL:https://www.angierchamber.org/event/angier-spring-sports-registration/
LOCATION:NC
ATTACH;FMTTYPE=image/jpeg:https://www.angierchamber.org/wp-content/uploads/2026/01/609012446_1179771081000912_269913968278084809_n.jpg
END:VEVENT
BEGIN:VEVENT
DTSTART;TZID=UTC:20260119T180000
DTEND;TZID=UTC:20260119T190000
DTSTAMP:20260425T014425
CREATED:20251229T164235Z
LAST-MODIFIED:20251229T164237Z
UID:10001077-1768845600-1768849200@www.angierchamber.org
SUMMARY:Pilates with Michelle Moore Fitness Nutrition and Wellness
DESCRIPTION:
URL:https://www.angierchamber.org/event/pilates-with-michelle-moore-fitness-nutrition-and-wellness-20/
LOCATION:Angier Chamber of Commerce\, United States
ATTACH;FMTTYPE=image/jpeg:https://www.angierchamber.org/wp-content/uploads/2025/12/604800326_888913093845324_6757664346823843320_n-1.jpg
ORGANIZER;CN="Michelle Moore Fitness%2C Nutrition%2C and Wellness":MAILTO:Mmooreblessed@gmail.com
END:VEVENT
BEGIN:VEVENT
DTSTART;TZID=UTC:20260119T183000
DTEND;TZID=UTC:20260119T203000
DTSTAMP:20260425T014425
CREATED:20251218T210659Z
LAST-MODIFIED:20251218T210702Z
UID:10001063-1768847400-1768854600@www.angierchamber.org
SUMMARY:Music Trivia with Napper Tandy's
DESCRIPTION:
URL:https://www.angierchamber.org/event/music-trivia-with-napper-tandys-21/
LOCATION:Napper Tandy’s Public House and Restaurant\, 27 South Broad Street East\, Angier\, NC\, 27501\, United States
ATTACH;FMTTYPE=image/jpeg:https://www.angierchamber.org/wp-content/uploads/2025/12/596999909_122146453424655911_4084776648541221396_n.jpg
END:VEVENT
END:VCALENDAR