BEGIN:VCALENDAR
VERSION:2.0
PRODID:-//Angier Chamber of Commerce - ECPv6.15.18//NONSGML v1.0//EN
CALSCALE:GREGORIAN
METHOD:PUBLISH
X-ORIGINAL-URL:https://www.angierchamber.org
X-WR-CALDESC:Events for Angier Chamber of Commerce
REFRESH-INTERVAL;VALUE=DURATION:PT1H
X-Robots-Tag:noindex
X-PUBLISHED-TTL:PT1H
BEGIN:VTIMEZONE
TZID:UTC
BEGIN:STANDARD
TZOFFSETFROM:+0000
TZOFFSETTO:+0000
TZNAME:UTC
DTSTART:20250101T000000
END:STANDARD
END:VTIMEZONE
BEGIN:VEVENT
DTSTART;TZID=UTC:20260114T090000
DTEND;TZID=UTC:20260114T110000
DTSTAMP:20260425T014435
CREATED:20251229T163441Z
LAST-MODIFIED:20251229T163442Z
UID:10001072-1768381200-1768388400@www.angierchamber.org
SUMMARY:Jackie's Clothing Closet at Movement Church
DESCRIPTION:
URL:https://www.angierchamber.org/event/jackies-clothing-closet-at-movement-church-3/
LOCATION:Movement Church\, 100 Tippet Road\, Angier\, NC\, 27501
ATTACH;FMTTYPE=image/jpeg:https://www.angierchamber.org/wp-content/uploads/2025/12/607962728_1295845589237488_738024992097301348_n-1.jpg
END:VEVENT
BEGIN:VEVENT
DTSTART;TZID=UTC:20260114T180000
DTEND;TZID=UTC:20260114T190000
DTSTAMP:20260425T014435
CREATED:20251229T164135Z
LAST-MODIFIED:20251229T164138Z
UID:10001076-1768413600-1768417200@www.angierchamber.org
SUMMARY:Pilates with Michelle Moore Fitness Nutrition and Wellness
DESCRIPTION:
URL:https://www.angierchamber.org/event/pilates-with-michelle-moore-fitness-nutrition-and-wellness-19/
LOCATION:Angier Chamber of Commerce\, United States
ATTACH;FMTTYPE=image/jpeg:https://www.angierchamber.org/wp-content/uploads/2025/12/604800326_888913093845324_6757664346823843320_n-1.jpg
ORGANIZER;CN="Michelle Moore Fitness%2C Nutrition%2C and Wellness":MAILTO:Mmooreblessed@gmail.com
END:VEVENT
BEGIN:VEVENT
DTSTART;TZID=UTC:20260114T190000
DTEND;TZID=UTC:20260114T220000
DTSTAMP:20260425T014435
CREATED:20251212T153219Z
LAST-MODIFIED:20251212T153221Z
UID:10001058-1768417200-1768428000@www.angierchamber.org
SUMMARY:Music Bingo with Napper Tandy's
DESCRIPTION:
URL:https://www.angierchamber.org/event/music-bingo-with-napper-tandys-20/
LOCATION:Napper Tandy’s Public House and Restaurant\, 27 South Broad Street East\, Angier\, NC\, 27501\, United States
ATTACH;FMTTYPE=image/jpeg:https://www.angierchamber.org/wp-content/uploads/2025/12/596610121_122146662242655911_5064157935860637058_n.jpg
END:VEVENT
END:VCALENDAR