BEGIN:VCALENDAR
VERSION:2.0
PRODID:-//Angier Chamber of Commerce - ECPv6.15.18//NONSGML v1.0//EN
CALSCALE:GREGORIAN
METHOD:PUBLISH
X-WR-CALNAME:Angier Chamber of Commerce
X-ORIGINAL-URL:https://www.angierchamber.org
X-WR-CALDESC:Events for Angier Chamber of Commerce
REFRESH-INTERVAL;VALUE=DURATION:PT1H
X-Robots-Tag:noindex
X-PUBLISHED-TTL:PT1H
BEGIN:VTIMEZONE
TZID:UTC
BEGIN:STANDARD
TZOFFSETFROM:+0000
TZOFFSETTO:+0000
TZNAME:UTC
DTSTART:20250101T000000
END:STANDARD
END:VTIMEZONE
BEGIN:VEVENT
DTSTART;TZID=UTC:20260108T090000
DTEND;TZID=UTC:20260108T100000
DTSTAMP:20260425T014348
CREATED:20251010T173739Z
LAST-MODIFIED:20251010T173742Z
UID:10000915-1767862800-1767866400@www.angierchamber.org
SUMMARY:Networking @ 9 hosted by Oak Hill Assisted Living Community
DESCRIPTION:
URL:https://www.angierchamber.org/event/networking-9-hosted-by-oak-hill-assisted-living-community-2/
LOCATION:Oak Hill Assisted Living\, 9767 NC 210 North\, Angier\, NC\, 27501\, United States
ATTACH;FMTTYPE=image/jpeg:https://www.angierchamber.org/wp-content/uploads/2025/10/558859619_1208701204610409_4514348497068789166_n.jpg
ORGANIZER;CN="Angier Chamber of Commerce":MAILTO:angiercc@angierchamber.org
END:VEVENT
BEGIN:VEVENT
DTSTART;TZID=UTC:20260108T100000
DTEND;TZID=UTC:20260108T110000
DTSTAMP:20260425T014348
CREATED:20251229T183126Z
LAST-MODIFIED:20251229T183127Z
UID:10001114-1767866400-1767870000@www.angierchamber.org
SUMMARY:Kinder Jam with Ellington Studios
DESCRIPTION:
URL:https://www.angierchamber.org/event/kinder-jam-with-ellington-studios/
LOCATION:Ellington Studios\, 54 South Raleigh Street\, Angier\, NC\, 27501\, United States
ATTACH;FMTTYPE=image/jpeg:https://www.angierchamber.org/wp-content/uploads/2025/12/601033768_1451862666946044_8220951526801540770_n-1.jpg
END:VEVENT
BEGIN:VEVENT
DTSTART;TZID=UTC:20260108T180000
DTEND;TZID=UTC:20260108T200000
DTSTAMP:20260425T014348
CREATED:20251212T152812Z
LAST-MODIFIED:20251212T152813Z
UID:10001056-1767895200-1767902400@www.angierchamber.org
SUMMARY:Sip and Paint with Beth Holak
DESCRIPTION:
URL:https://www.angierchamber.org/event/sip-and-paint-with-beth-holak/
LOCATION:NC
ATTACH;FMTTYPE=image/jpeg:https://www.angierchamber.org/wp-content/uploads/2025/12/600171050_1169837525356254_6204473490595337110_n.jpg
END:VEVENT
BEGIN:VEVENT
DTSTART;TZID=UTC:20260108T181500
DTEND;TZID=UTC:20260108T190000
DTSTAMP:20260425T014348
CREATED:20260106T212656Z
LAST-MODIFIED:20260106T212658Z
UID:10001167-1767896100-1767898800@www.angierchamber.org
SUMMARY:SYNC with Ellington Studios
DESCRIPTION:
URL:https://www.angierchamber.org/event/sync-with-ellington-studios/
LOCATION:Ellington Studios\, 54 South Raleigh Street\, Angier\, NC\, 27501\, United States
ATTACH;FMTTYPE=image/jpeg:https://www.angierchamber.org/wp-content/uploads/2026/01/608451724_1464316129034031_2485497123182272138_n.jpg
END:VEVENT
END:VCALENDAR