BEGIN:VCALENDAR
VERSION:2.0
PRODID:-//Angier Chamber of Commerce - ECPv6.15.18//NONSGML v1.0//EN
CALSCALE:GREGORIAN
METHOD:PUBLISH
X-WR-CALNAME:Angier Chamber of Commerce
X-ORIGINAL-URL:https://www.angierchamber.org
X-WR-CALDESC:Events for Angier Chamber of Commerce
REFRESH-INTERVAL;VALUE=DURATION:PT1H
X-Robots-Tag:noindex
X-PUBLISHED-TTL:PT1H
BEGIN:VTIMEZONE
TZID:UTC
BEGIN:STANDARD
TZOFFSETFROM:+0000
TZOFFSETTO:+0000
TZNAME:UTC
DTSTART:20250101T000000
END:STANDARD
END:VTIMEZONE
BEGIN:VEVENT
DTSTART;TZID=UTC:20260106T093000
DTEND;TZID=UTC:20260106T170000
DTSTAMP:20260425T014347
CREATED:20251229T210020Z
LAST-MODIFIED:20251229T210022Z
UID:10001120-1767691800-1767718800@www.angierchamber.org
SUMMARY:Collectible\, Vintage\, Unique Glass and Ceramics JP Auction
DESCRIPTION:
URL:https://www.angierchamber.org/event/collectible-vintage-unique-glass-and-ceramics-jp-auction/
LOCATION:Johnson Properties\, 48 Progressive Parkway\, Angier\, NC\, 27501\, United States
ATTACH;FMTTYPE=image/jpeg:https://www.angierchamber.org/wp-content/uploads/2025/12/3.jpg
END:VEVENT
BEGIN:VEVENT
DTSTART;TZID=UTC:20260106T203000
DTEND;TZID=UTC:20260106T223000
DTSTAMP:20260425T014347
CREATED:20251218T211452Z
LAST-MODIFIED:20251218T211454Z
UID:10001066-1767731400-1767738600@www.angierchamber.org
SUMMARY:Karaoke with Napper Tandy's
DESCRIPTION:
URL:https://www.angierchamber.org/event/karaoke-with-napper-tandys-14/
LOCATION:Napper Tandy’s Public House and Restaurant\, 27 South Broad Street East\, Angier\, NC\, 27501\, United States
ATTACH;FMTTYPE=image/jpeg:https://www.angierchamber.org/wp-content/uploads/2025/12/589931375_122145189410655911_9198584938916424352_n.jpg
END:VEVENT
END:VCALENDAR