BEGIN:VCALENDAR
VERSION:2.0
PRODID:-//Angier Chamber of Commerce - ECPv6.15.18//NONSGML v1.0//EN
CALSCALE:GREGORIAN
METHOD:PUBLISH
X-WR-CALNAME:Angier Chamber of Commerce
X-ORIGINAL-URL:https://www.angierchamber.org
X-WR-CALDESC:Events for Angier Chamber of Commerce
REFRESH-INTERVAL;VALUE=DURATION:PT1H
X-Robots-Tag:noindex
X-PUBLISHED-TTL:PT1H
BEGIN:VTIMEZONE
TZID:UTC
BEGIN:STANDARD
TZOFFSETFROM:+0000
TZOFFSETTO:+0000
TZNAME:UTC
DTSTART:20240101T000000
END:STANDARD
END:VTIMEZONE
BEGIN:VEVENT
DTSTART;TZID=UTC:20250911T180000
DTEND;TZID=UTC:20251106T210000
DTSTAMP:20260424T210541
CREATED:20250630T190822Z
LAST-MODIFIED:20250630T191023Z
UID:10000595-1757613600-1762462800@www.angierchamber.org
SUMMARY:Harnett Liftoff Lab
DESCRIPTION:
URL:https://www.angierchamber.org/event/harnett-liftoff-lab/
LOCATION:harnett health sciences center\, 51 Red Mulberry Way\, Lillington\, NC\, 27546\, United States
ATTACH;FMTTYPE=image/png:https://www.angierchamber.org/wp-content/uploads/2025/06/cccc-liftoff.png
END:VEVENT
BEGIN:VEVENT
DTSTART;VALUE=DATE:20251001
DTEND;VALUE=DATE:20251220
DTSTAMP:20260424T210541
CREATED:20251010T172921Z
LAST-MODIFIED:20251010T172923Z
UID:10000912-1759276800-1766188799@www.angierchamber.org
SUMMARY:To Make a Child Smile Food Drive
DESCRIPTION:To Make A Child Smile Holiday Food Drive \nTo Make a Child Smile is partnering with local Harnett County schools to identify children and families in need. On Sunday\, December 21st\, volunteers will take these children Christmas shopping\, and the goal is to provide each family with a box of food so they can enjoy a warm holiday meal together. \nWe’re accepting non-perishable food donations such as canned goods\, instant potatoes\, rice\, pasta\, and other pantry staples.
URL:https://www.angierchamber.org/event/to-make-a-child-smile-food-drive/
LOCATION:NC
ATTACH;FMTTYPE=image/jpeg:https://www.angierchamber.org/wp-content/uploads/2025/10/559155723_1209783644502165_5867660157540676353_n.jpg
END:VEVENT
BEGIN:VEVENT
DTSTART;VALUE=DATE:20251016
DTEND;VALUE=DATE:20251102
DTSTAMP:20260424T210541
CREATED:20251014T184554Z
LAST-MODIFIED:20251014T184651Z
UID:10001003-1760572800-1762041599@www.angierchamber.org
SUMMARY:Early Voting for Municipal Elections
DESCRIPTION:
URL:https://www.angierchamber.org/event/early-voting-for-municipal-elections/
LOCATION:NC
ATTACH;FMTTYPE=image/png:https://www.angierchamber.org/wp-content/uploads/2025/10/municipal-flyer-angier-coats-lillington-1.png
END:VEVENT
BEGIN:VEVENT
DTSTART;TZID=UTC:20251031T160000
DTEND;TZID=UTC:20251101T003000
DTSTAMP:20260424T210541
CREATED:20251027T183033Z
LAST-MODIFIED:20251027T183035Z
UID:10001036-1761926400-1761957000@www.angierchamber.org
SUMMARY:Halloween Party hosted by Napper Tandy's
DESCRIPTION:
URL:https://www.angierchamber.org/event/halloween-party-hosted-by-napper-tandys/
LOCATION:Napper Tandy’s Public House and Restaurant\, 27 South Broad Street East\, Angier\, NC\, 27501\, United States
ATTACH;FMTTYPE=image/jpeg:https://www.angierchamber.org/wp-content/uploads/2025/10/571775248_122142404246655911_4368724752660284356_n.jpg
END:VEVENT
BEGIN:VEVENT
DTSTART;VALUE=DATE:20251101
DTEND;VALUE=DATE:20260101
DTSTAMP:20260424T210541
CREATED:20251021T163513Z
LAST-MODIFIED:20251021T163514Z
UID:10001029-1761955200-1767225599@www.angierchamber.org
SUMMARY:ACOC 2026/2028 Board Member Nominations being accepted
DESCRIPTION:Any member of the Angier Chamber of Commerce in good standing may be nominated for a seat on the Board of Directors. Directors serve a three-year term with a maximum of two consecutive terms. Any current director who has not served two consecutive terms\, may be re-nominated for another three-year term. There are (4) available seats for the 2026/2028 term. \nVacancies created by Angier Chamber of Commerce Board of Directors expiring terms this year are as follows: \nDiana Lischin – Angier Family Pharmacy (end of 2nd term)\nTom Wilson – C & D Insurance (end of 2nd term)\nAddison Allgood – The Shop Community Space\nKim Causer – Simply Said Gifts & Decor (end of 1st term\, but can serve a 2nd term) \nPLEASE NOTE:\n1. Board meetings will be held at the Angier Chamber of Commerce located at 24 East Depot Street\, Angier the second Tuesday of every month at 8:30 am.\n2. If the nominee is on a Committee (Annual Banquet Committee\, Crepe Myrtle Committee\, Christmas Committee\, etc.)\, there will be meetings scheduled outside of the regular Board meetings that they will be expected to attend.\n3. The nominee must be available to volunteer at the Annual Banquet\, Crepe Myrtle Celebration\, Christmas events\, and any other events the Chamber may host throughout the year. It takes\, us as a team\, working together to make these community events successful.\n4. There will be ribbon cuttings scheduled throughout the year that the nominee will be expected to attend.\n5. There will be networking events scheduled throughout the year that the nominee will be expected to attend. \nThe current Board of Directors will vote on the new members based on the nominations made by the membership in accordance with the Angier Chamber of Commerce Bylaws. \nNOTE: The Board of Directors of the Corporation shall consist of not less than ten (10) persons nor more than fifteen (15) persons. \nClick here for the nomination form (link will not work until November 1st\, 2025).
URL:https://www.angierchamber.org/event/acoc-2026-2028-board-member-nominations-being-accepted/
LOCATION:NC
ATTACH;FMTTYPE=image/png:https://www.angierchamber.org/wp-content/uploads/2025/10/Welcome-Autumn-Instagram-Post-1-1.png
END:VEVENT
BEGIN:VEVENT
DTSTART;TZID=UTC:20251101T080000
DTEND;TZID=UTC:20251101T120000
DTSTAMP:20260424T210541
CREATED:20250929T173600Z
LAST-MODIFIED:20250929T173619Z
UID:10000876-1761984000-1761998400@www.angierchamber.org
SUMMARY:Sleep in Heavenly Peace FIERCE Service Project
DESCRIPTION:
URL:https://www.angierchamber.org/event/sleep-in-heavenly-peace-fierce-service-project/
LOCATION:NC
ATTACH;FMTTYPE=image/jpeg:https://www.angierchamber.org/wp-content/uploads/2025/09/2CD75581-5593-4EF2-8AD5-1FA382E508B2.jpeg
END:VEVENT
BEGIN:VEVENT
DTSTART;TZID=UTC:20251101T120000
DTEND;TZID=UTC:20251101T200000
DTSTAMP:20260424T210541
CREATED:20250929T174634Z
LAST-MODIFIED:20250929T174636Z
UID:10000877-1761998400-1762027200@www.angierchamber.org
SUMMARY:Dia De Muertos Event
DESCRIPTION:
URL:https://www.angierchamber.org/event/dia-de-muertos-event/
LOCATION:Angier Depot Square/R.H. Ellington Grounds\, United States
ATTACH;FMTTYPE=image/jpeg:https://www.angierchamber.org/wp-content/uploads/2025/09/554049549_1098223549155666_5159294246337193503_n.jpg
END:VEVENT
BEGIN:VEVENT
DTSTART;TZID=UTC:20251101T140000
DTEND;TZID=UTC:20251101T170000
DTSTAMP:20260424T210541
CREATED:20251027T203100Z
LAST-MODIFIED:20251027T203102Z
UID:10001038-1762005600-1762016400@www.angierchamber.org
SUMMARY:Adult Field Trip with GypsySoul (Kitchen Herb Garden)
DESCRIPTION:
URL:https://www.angierchamber.org/event/adult-field-trip-with-gypsysoul-kitchen-herb-garden/
LOCATION:GypsySoul Boutique\, 1179 N Main Street\, Lillington\, NC\, 27546
ATTACH;FMTTYPE=image/jpeg:https://www.angierchamber.org/wp-content/uploads/2025/10/558209008_777930325232972_6492418559156246962_n.jpg
END:VEVENT
BEGIN:VEVENT
DTSTART;TZID=UTC:20251101T210000
DTEND;TZID=UTC:20251101T233000
DTSTAMP:20260424T210541
CREATED:20250929T160627Z
LAST-MODIFIED:20250929T160630Z
UID:10000850-1762030800-1762039800@www.angierchamber.org
SUMMARY:Live Music at Napper Tandy's
DESCRIPTION:
URL:https://www.angierchamber.org/event/live-music-at-napper-tandys-146/
LOCATION:Napper Tandy’s Public House and Restaurant\, 27 South Broad Street East\, Angier\, NC\, 27501\, United States
ATTACH;FMTTYPE=image/avif:https://www.angierchamber.org/wp-content/uploads/2025/09/abstract-live-music-poster-design_1017-32307.avif
END:VEVENT
END:VCALENDAR