BEGIN:VCALENDAR
VERSION:2.0
PRODID:-//Angier Chamber of Commerce - ECPv6.15.18//NONSGML v1.0//EN
CALSCALE:GREGORIAN
METHOD:PUBLISH
X-WR-CALNAME:Angier Chamber of Commerce
X-ORIGINAL-URL:https://www.angierchamber.org
X-WR-CALDESC:Events for Angier Chamber of Commerce
REFRESH-INTERVAL;VALUE=DURATION:PT1H
X-Robots-Tag:noindex
X-PUBLISHED-TTL:PT1H
BEGIN:VTIMEZONE
TZID:UTC
BEGIN:STANDARD
TZOFFSETFROM:+0000
TZOFFSETTO:+0000
TZNAME:UTC
DTSTART:20240101T000000
END:STANDARD
END:VTIMEZONE
BEGIN:VEVENT
DTSTART;TZID=UTC:20250911T180000
DTEND;TZID=UTC:20251106T210000
DTSTAMP:20260424T210647
CREATED:20250630T190822Z
LAST-MODIFIED:20250630T191023Z
UID:10000595-1757613600-1762462800@www.angierchamber.org
SUMMARY:Harnett Liftoff Lab
DESCRIPTION:
URL:https://www.angierchamber.org/event/harnett-liftoff-lab/
LOCATION:harnett health sciences center\, 51 Red Mulberry Way\, Lillington\, NC\, 27546\, United States
ATTACH;FMTTYPE=image/png:https://www.angierchamber.org/wp-content/uploads/2025/06/cccc-liftoff.png
END:VEVENT
BEGIN:VEVENT
DTSTART;VALUE=DATE:20251001
DTEND;VALUE=DATE:20251220
DTSTAMP:20260424T210647
CREATED:20251010T172921Z
LAST-MODIFIED:20251010T172923Z
UID:10000912-1759276800-1766188799@www.angierchamber.org
SUMMARY:To Make a Child Smile Food Drive
DESCRIPTION:To Make A Child Smile Holiday Food Drive \nTo Make a Child Smile is partnering with local Harnett County schools to identify children and families in need. On Sunday\, December 21st\, volunteers will take these children Christmas shopping\, and the goal is to provide each family with a box of food so they can enjoy a warm holiday meal together. \nWe’re accepting non-perishable food donations such as canned goods\, instant potatoes\, rice\, pasta\, and other pantry staples.
URL:https://www.angierchamber.org/event/to-make-a-child-smile-food-drive/
LOCATION:NC
ATTACH;FMTTYPE=image/jpeg:https://www.angierchamber.org/wp-content/uploads/2025/10/559155723_1209783644502165_5867660157540676353_n.jpg
END:VEVENT
BEGIN:VEVENT
DTSTART;VALUE=DATE:20251016
DTEND;VALUE=DATE:20251102
DTSTAMP:20260424T210647
CREATED:20251014T184554Z
LAST-MODIFIED:20251014T184651Z
UID:10001003-1760572800-1762041599@www.angierchamber.org
SUMMARY:Early Voting for Municipal Elections
DESCRIPTION:
URL:https://www.angierchamber.org/event/early-voting-for-municipal-elections/
LOCATION:NC
ATTACH;FMTTYPE=image/png:https://www.angierchamber.org/wp-content/uploads/2025/10/municipal-flyer-angier-coats-lillington-1.png
END:VEVENT
BEGIN:VEVENT
DTSTART;TZID=UTC:20251018T080000
DTEND;TZID=UTC:20251018T110000
DTSTAMP:20260424T210647
CREATED:20250710T202550Z
LAST-MODIFIED:20250710T202551Z
UID:10000642-1760774400-1760785200@www.angierchamber.org
SUMMARY:Town of Angier Community Yard Sale
DESCRIPTION:
URL:https://www.angierchamber.org/event/town-of-angier-community-yard-sale-3/
LOCATION:Angier Depot Square/R.H. Ellington Grounds\, United States
ATTACH;FMTTYPE=image/jpeg:https://www.angierchamber.org/wp-content/uploads/2025/07/514963926_1033143598996995_6937348053205012506_n.jpg
END:VEVENT
BEGIN:VEVENT
DTSTART;TZID=UTC:20251018T080000
DTEND;TZID=UTC:20251018T110000
DTSTAMP:20260424T210647
CREATED:20250926T201329Z
LAST-MODIFIED:20250926T201330Z
UID:10000823-1760774400-1760785200@www.angierchamber.org
SUMMARY:Penny Social hosted by the Angier Museum
DESCRIPTION:
URL:https://www.angierchamber.org/event/penny-social-hosted-by-the-angier-museum/
LOCATION:Angier Depot Square/R.H. Ellington Grounds\, United States
END:VEVENT
BEGIN:VEVENT
DTSTART;TZID=UTC:20251018T100000
DTEND;TZID=UTC:20251018T110000
DTSTAMP:20260424T210647
CREATED:20250929T202131Z
LAST-MODIFIED:20250929T202136Z
UID:10000902-1760781600-1760785200@www.angierchamber.org
SUMMARY:KinderJam Music Class with Ellington Studios
DESCRIPTION:
URL:https://www.angierchamber.org/event/kinderjam-music-class-with-ellington-studios-28/
LOCATION:Ellington Studios\, 54 South Raleigh Street\, Angier\, NC\, 27501\, United States
ATTACH;FMTTYPE=image/jpeg:https://www.angierchamber.org/wp-content/uploads/2025/09/556090822_1379112627554382_1833428359640411106_n.jpg
END:VEVENT
BEGIN:VEVENT
DTSTART;TZID=UTC:20251018T100000
DTEND;TZID=UTC:20251018T200000
DTSTAMP:20260424T210647
CREATED:20250731T150418Z
LAST-MODIFIED:20250731T150419Z
UID:10000699-1760781600-1760817600@www.angierchamber.org
SUMMARY:Rocktober Fest with Ellington Studios
DESCRIPTION:
URL:https://www.angierchamber.org/event/rocktober-fest-with-ellington-studios/
LOCATION:Ellington Studios\, 54 South Raleigh Street\, Angier\, NC\, 27501\, United States
END:VEVENT
BEGIN:VEVENT
DTSTART;TZID=UTC:20251018T110000
DTEND;TZID=UTC:20251018T130000
DTSTAMP:20260424T210647
CREATED:20250930T201119Z
LAST-MODIFIED:20250930T201125Z
UID:10000906-1760785200-1760792400@www.angierchamber.org
SUMMARY:Christmas Greeting Card Making Event with GypsySoul
DESCRIPTION:
URL:https://www.angierchamber.org/event/christmas-greeting-card-making-event-with-gypsysoul/
LOCATION:GypsySoul Boutique\, 1179 N Main Street\, Lillington\, NC\, 27546
ATTACH;FMTTYPE=image/jpeg:https://www.angierchamber.org/wp-content/uploads/2025/09/544807971_799065039474133_179939640686279562_n.jpg
END:VEVENT
BEGIN:VEVENT
DTSTART;TZID=UTC:20251018T130000
DTEND;TZID=UTC:20251018T150000
DTSTAMP:20260424T210647
CREATED:20250929T165411Z
LAST-MODIFIED:20250929T165413Z
UID:10000872-1760792400-1760799600@www.angierchamber.org
SUMMARY:Be an Artist with Beth Holuk
DESCRIPTION:
URL:https://www.angierchamber.org/event/be-an-artist-with-beth-holuk/
LOCATION:NC
ATTACH;FMTTYPE=image/png:https://www.angierchamber.org/wp-content/uploads/2025/09/20250917110234188.png
END:VEVENT
BEGIN:VEVENT
DTSTART;TZID=UTC:20251018T170000
DTEND;TZID=UTC:20251018T220000
DTSTAMP:20260424T210647
CREATED:20250827T184853Z
LAST-MODIFIED:20250827T184854Z
UID:10000799-1760806800-1760824800@www.angierchamber.org
SUMMARY:Drive-In Movie with Ronnie's Berry Farm
DESCRIPTION:
URL:https://www.angierchamber.org/event/drive-in-movie-with-ronnies-berry-farm/
LOCATION:Ronnie’s Berry Farm\, 18409 NC-210\, Angier\, NC\, 27501
END:VEVENT
BEGIN:VEVENT
DTSTART;TZID=UTC:20251018T210000
DTEND;TZID=UTC:20251018T233000
DTSTAMP:20260424T210647
CREATED:20250929T160107Z
LAST-MODIFIED:20250929T160111Z
UID:10000846-1760821200-1760830200@www.angierchamber.org
SUMMARY:Live Music at Napper Tandy's
DESCRIPTION:
URL:https://www.angierchamber.org/event/live-music-at-napper-tandys-142/
LOCATION:Napper Tandy’s Public House and Restaurant\, 27 South Broad Street East\, Angier\, NC\, 27501\, United States
ATTACH;FMTTYPE=image/avif:https://www.angierchamber.org/wp-content/uploads/2025/09/abstract-live-music-poster-design_1017-32307.avif
END:VEVENT
END:VCALENDAR