BEGIN:VCALENDAR
VERSION:2.0
PRODID:-//Angier Chamber of Commerce - ECPv6.15.18//NONSGML v1.0//EN
CALSCALE:GREGORIAN
METHOD:PUBLISH
X-ORIGINAL-URL:https://www.angierchamber.org
X-WR-CALDESC:Events for Angier Chamber of Commerce
REFRESH-INTERVAL;VALUE=DURATION:PT1H
X-Robots-Tag:noindex
X-PUBLISHED-TTL:PT1H
BEGIN:VTIMEZONE
TZID:UTC
BEGIN:STANDARD
TZOFFSETFROM:+0000
TZOFFSETTO:+0000
TZNAME:UTC
DTSTART:20240101T000000
END:STANDARD
END:VTIMEZONE
BEGIN:VEVENT
DTSTART;TZID=UTC:20250911T180000
DTEND;TZID=UTC:20251106T210000
DTSTAMP:20260424T210707
CREATED:20250630T190822Z
LAST-MODIFIED:20250630T191023Z
UID:10000595-1757613600-1762462800@www.angierchamber.org
SUMMARY:Harnett Liftoff Lab
DESCRIPTION:
URL:https://www.angierchamber.org/event/harnett-liftoff-lab/
LOCATION:harnett health sciences center\, 51 Red Mulberry Way\, Lillington\, NC\, 27546\, United States
ATTACH;FMTTYPE=image/png:https://www.angierchamber.org/wp-content/uploads/2025/06/cccc-liftoff.png
END:VEVENT
BEGIN:VEVENT
DTSTART;VALUE=DATE:20251001
DTEND;VALUE=DATE:20251220
DTSTAMP:20260424T210707
CREATED:20251010T172921Z
LAST-MODIFIED:20251010T172923Z
UID:10000912-1759276800-1766188799@www.angierchamber.org
SUMMARY:To Make a Child Smile Food Drive
DESCRIPTION:To Make A Child Smile Holiday Food Drive \nTo Make a Child Smile is partnering with local Harnett County schools to identify children and families in need. On Sunday\, December 21st\, volunteers will take these children Christmas shopping\, and the goal is to provide each family with a box of food so they can enjoy a warm holiday meal together. \nWe’re accepting non-perishable food donations such as canned goods\, instant potatoes\, rice\, pasta\, and other pantry staples.
URL:https://www.angierchamber.org/event/to-make-a-child-smile-food-drive/
LOCATION:NC
ATTACH;FMTTYPE=image/jpeg:https://www.angierchamber.org/wp-content/uploads/2025/10/559155723_1209783644502165_5867660157540676353_n.jpg
END:VEVENT
BEGIN:VEVENT
DTSTART;VALUE=DATE:20251016
DTEND;VALUE=DATE:20251102
DTSTAMP:20260424T210707
CREATED:20251014T184554Z
LAST-MODIFIED:20251014T184651Z
UID:10001003-1760572800-1762041599@www.angierchamber.org
SUMMARY:Early Voting for Municipal Elections
DESCRIPTION:
URL:https://www.angierchamber.org/event/early-voting-for-municipal-elections/
LOCATION:NC
ATTACH;FMTTYPE=image/png:https://www.angierchamber.org/wp-content/uploads/2025/10/municipal-flyer-angier-coats-lillington-1.png
END:VEVENT
BEGIN:VEVENT
DTSTART;VALUE=DATE:20251017
DTEND;VALUE=DATE:20251018
DTSTAMP:20260424T210707
CREATED:20250929T194019Z
LAST-MODIFIED:20250929T194021Z
UID:10000893-1760659200-1760745599@www.angierchamber.org
SUMMARY:Movement Church Clothing Closet
DESCRIPTION:
URL:https://www.angierchamber.org/event/movement-church-clothing-closet-2/
LOCATION:Movement Church\, 100 Tippet Road\, Angier\, NC\, 27501
ATTACH;FMTTYPE=image/jpeg:https://www.angierchamber.org/wp-content/uploads/2025/09/556846175_1220876836734364_3288698545466455254_n.jpg
END:VEVENT
BEGIN:VEVENT
DTSTART;TZID=UTC:20251017T091500
DTEND;TZID=UTC:20251017T130000
DTSTAMP:20260424T210707
CREATED:20250925T201958Z
LAST-MODIFIED:20250925T202028Z
UID:10000822-1760692500-1760706000@www.angierchamber.org
SUMMARY:HCPC Raise for Clays Fundraiser
DESCRIPTION:
URL:https://www.angierchamber.org/event/hcpc-raise-for-clays-fundraiser/
LOCATION:Drakes Landing\, 3146 Chalybeate Springs Rd\, Fuquay-Varina\, 27526\, United States
END:VEVENT
BEGIN:VEVENT
DTSTART;TZID=UTC:20251017T120000
DTEND;TZID=UTC:20251017T130000
DTSTAMP:20260424T210707
CREATED:20250925T193418Z
LAST-MODIFIED:20250925T193422Z
UID:10000817-1760702400-1760706000@www.angierchamber.org
SUMMARY:B-Organic Ribbon Cutting
DESCRIPTION:
URL:https://www.angierchamber.org/event/b-organic-ribbon-cutting/
LOCATION:Tarheel Nursery\, 160 Old Stage Rd N\, Angier\, NC\, 27501
END:VEVENT
BEGIN:VEVENT
DTSTART;TZID=UTC:20251017T210000
DTEND;TZID=UTC:20251017T233000
DTSTAMP:20260424T210707
CREATED:20250929T155828Z
LAST-MODIFIED:20250929T155830Z
UID:10000845-1760734800-1760743800@www.angierchamber.org
SUMMARY:Live Music at Napper Tandy's
DESCRIPTION:
URL:https://www.angierchamber.org/event/live-music-at-napper-tandys-141/
LOCATION:Napper Tandy’s Public House and Restaurant\, 27 South Broad Street East\, Angier\, NC\, 27501\, United States
ATTACH;FMTTYPE=image/avif:https://www.angierchamber.org/wp-content/uploads/2025/09/abstract-live-music-poster-design_1017-32307.avif
END:VEVENT
END:VCALENDAR