BEGIN:VCALENDAR
VERSION:2.0
PRODID:-//Angier Chamber of Commerce - ECPv6.15.18//NONSGML v1.0//EN
CALSCALE:GREGORIAN
METHOD:PUBLISH
X-WR-CALNAME:Angier Chamber of Commerce
X-ORIGINAL-URL:https://www.angierchamber.org
X-WR-CALDESC:Events for Angier Chamber of Commerce
REFRESH-INTERVAL;VALUE=DURATION:PT1H
X-Robots-Tag:noindex
X-PUBLISHED-TTL:PT1H
BEGIN:VTIMEZONE
TZID:UTC
BEGIN:STANDARD
TZOFFSETFROM:+0000
TZOFFSETTO:+0000
TZNAME:UTC
DTSTART:20240101T000000
END:STANDARD
END:VTIMEZONE
BEGIN:VEVENT
DTSTART;TZID=UTC:20250911T180000
DTEND;TZID=UTC:20251106T210000
DTSTAMP:20260424T222516
CREATED:20250630T190822Z
LAST-MODIFIED:20250630T191023Z
UID:10000595-1757613600-1762462800@www.angierchamber.org
SUMMARY:Harnett Liftoff Lab
DESCRIPTION:
URL:https://www.angierchamber.org/event/harnett-liftoff-lab/
LOCATION:harnett health sciences center\, 51 Red Mulberry Way\, Lillington\, NC\, 27546\, United States
ATTACH;FMTTYPE=image/png:https://www.angierchamber.org/wp-content/uploads/2025/06/cccc-liftoff.png
END:VEVENT
BEGIN:VEVENT
DTSTART;VALUE=DATE:20251001
DTEND;VALUE=DATE:20251220
DTSTAMP:20260424T222516
CREATED:20251010T172921Z
LAST-MODIFIED:20251010T172923Z
UID:10000912-1759276800-1766188799@www.angierchamber.org
SUMMARY:To Make a Child Smile Food Drive
DESCRIPTION:To Make A Child Smile Holiday Food Drive \nTo Make a Child Smile is partnering with local Harnett County schools to identify children and families in need. On Sunday\, December 21st\, volunteers will take these children Christmas shopping\, and the goal is to provide each family with a box of food so they can enjoy a warm holiday meal together. \nWe’re accepting non-perishable food donations such as canned goods\, instant potatoes\, rice\, pasta\, and other pantry staples.
URL:https://www.angierchamber.org/event/to-make-a-child-smile-food-drive/
LOCATION:NC
ATTACH;FMTTYPE=image/jpeg:https://www.angierchamber.org/wp-content/uploads/2025/10/559155723_1209783644502165_5867660157540676353_n.jpg
END:VEVENT
BEGIN:VEVENT
DTSTART;TZID=UTC:20251010T080000
DTEND;TZID=UTC:20251012T170000
DTSTAMP:20260424T222516
CREATED:20250929T164528Z
LAST-MODIFIED:20250929T164529Z
UID:10000868-1760083200-1760288400@www.angierchamber.org
SUMMARY:Camping and Fun Show hosted by the Coats Chamber of Commerce
DESCRIPTION:
URL:https://www.angierchamber.org/event/camping-and-fun-show-hosted-by-the-coats-chamber-of-commerce/
LOCATION:NC
ATTACH;FMTTYPE=image/jpeg:https://www.angierchamber.org/wp-content/uploads/2025/09/547358447_1096426932697314_2130825022958215074_n.jpg
END:VEVENT
BEGIN:VEVENT
DTSTART;TZID=UTC:20251010T190000
DTEND;TZID=UTC:20251011T170000
DTSTAMP:20260424T222516
CREATED:20250929T164825Z
LAST-MODIFIED:20250929T164827Z
UID:10000870-1760122800-1760202000@www.angierchamber.org
SUMMARY:Coats Farmers Day hosted by the Coats Chamber of Commerce
DESCRIPTION:
URL:https://www.angierchamber.org/event/coats-farmers-day-hosted-by-the-coats-chamber-of-commerce/
LOCATION:NC
ATTACH;FMTTYPE=image/jpeg:https://www.angierchamber.org/wp-content/uploads/2025/09/539905059_1082716864068321_4999044966342022066_n.jpg
END:VEVENT
BEGIN:VEVENT
DTSTART;TZID=UTC:20251011T080000
DTEND;TZID=UTC:20251011T120000
DTSTAMP:20260424T222516
CREATED:20250929T164644Z
LAST-MODIFIED:20250929T164646Z
UID:10000869-1760169600-1760184000@www.angierchamber.org
SUMMARY:Car and Truck Show hosted by the Coats Chamber of Commerce
DESCRIPTION:
URL:https://www.angierchamber.org/event/car-and-truck-show-hosted-by-the-coats-chamber-of-commerce/
LOCATION:NC
ATTACH;FMTTYPE=image/jpeg:https://www.angierchamber.org/wp-content/uploads/2025/09/547266779_1096427129363961_4246197775804326598_n.jpg
END:VEVENT
BEGIN:VEVENT
DTSTART;TZID=UTC:20251011T080000
DTEND;TZID=UTC:20251011T170000
DTSTAMP:20260424T222517
CREATED:20250929T164335Z
LAST-MODIFIED:20250929T164337Z
UID:10000867-1760169600-1760202000@www.angierchamber.org
SUMMARY:Farm Equipment Show hosted by the Coats Chamber of Commerce
DESCRIPTION:
URL:https://www.angierchamber.org/event/farm-equipment-show-hosted-by-the-coats-chamber-of-commerce/
LOCATION:NC
ATTACH;FMTTYPE=image/jpeg:https://www.angierchamber.org/wp-content/uploads/2025/09/546625200_1096426866030654_6607047941482304096_n.jpg
END:VEVENT
BEGIN:VEVENT
DTSTART;TZID=UTC:20251011T100000
DTEND;TZID=UTC:20251011T110000
DTSTAMP:20260424T222517
CREATED:20250929T202034Z
LAST-MODIFIED:20250929T202039Z
UID:10000901-1760176800-1760180400@www.angierchamber.org
SUMMARY:KinderJam Music Class with Ellington Studios
DESCRIPTION:
URL:https://www.angierchamber.org/event/kinderjam-music-class-with-ellington-studios-27/
LOCATION:Ellington Studios\, 54 South Raleigh Street\, Angier\, NC\, 27501\, United States
ATTACH;FMTTYPE=image/jpeg:https://www.angierchamber.org/wp-content/uploads/2025/09/556090822_1379112627554382_1833428359640411106_n.jpg
END:VEVENT
BEGIN:VEVENT
DTSTART;TZID=UTC:20251011T100000
DTEND;TZID=UTC:20251011T160000
DTSTAMP:20260424T222517
CREATED:20250930T201514Z
LAST-MODIFIED:20250930T201527Z
UID:10000907-1760176800-1760198400@www.angierchamber.org
SUMMARY:Wanderfest Artisan markets with GypsySoul
DESCRIPTION:
URL:https://www.angierchamber.org/event/wanderfest-artisan-markets-with-gypsysoul/
LOCATION:NC
ATTACH;FMTTYPE=image/jpeg:https://www.angierchamber.org/wp-content/uploads/2025/09/485882692_632391226352406_4103210782683751560_n.jpg
END:VEVENT
BEGIN:VEVENT
DTSTART;TZID=UTC:20251011T140000
DTEND;TZID=UTC:20251011T180000
DTSTAMP:20260424T222517
CREATED:20250827T190900Z
LAST-MODIFIED:20250827T190902Z
UID:10000811-1760191200-1760205600@www.angierchamber.org
SUMMARY:Gospel in the Park
DESCRIPTION:
URL:https://www.angierchamber.org/event/gospel-in-the-park-3/
LOCATION:Angier Depot Square/R.H. Ellington Grounds\, United States
END:VEVENT
BEGIN:VEVENT
DTSTART;TZID=UTC:20251011T210000
DTEND;TZID=UTC:20251011T233000
DTSTAMP:20260424T222517
CREATED:20250929T155745Z
LAST-MODIFIED:20250929T155747Z
UID:10000844-1760216400-1760225400@www.angierchamber.org
SUMMARY:Live Music at Napper Tandy's
DESCRIPTION:
URL:https://www.angierchamber.org/event/live-music-at-napper-tandys-140/
LOCATION:Napper Tandy’s Public House and Restaurant\, 27 South Broad Street East\, Angier\, NC\, 27501\, United States
ATTACH;FMTTYPE=image/avif:https://www.angierchamber.org/wp-content/uploads/2025/09/abstract-live-music-poster-design_1017-32307.avif
END:VEVENT
END:VCALENDAR