BEGIN:VCALENDAR
VERSION:2.0
PRODID:-//Angier Chamber of Commerce - ECPv6.15.18//NONSGML v1.0//EN
CALSCALE:GREGORIAN
METHOD:PUBLISH
X-WR-CALNAME:Angier Chamber of Commerce
X-ORIGINAL-URL:https://www.angierchamber.org
X-WR-CALDESC:Events for Angier Chamber of Commerce
REFRESH-INTERVAL;VALUE=DURATION:PT1H
X-Robots-Tag:noindex
X-PUBLISHED-TTL:PT1H
BEGIN:VTIMEZONE
TZID:UTC
BEGIN:STANDARD
TZOFFSETFROM:+0000
TZOFFSETTO:+0000
TZNAME:UTC
DTSTART:20240101T000000
END:STANDARD
END:VTIMEZONE
BEGIN:VEVENT
DTSTART;TZID=UTC:20250911T180000
DTEND;TZID=UTC:20251106T210000
DTSTAMP:20260424T210642
CREATED:20250630T190822Z
LAST-MODIFIED:20250630T191023Z
UID:10000595-1757613600-1762462800@www.angierchamber.org
SUMMARY:Harnett Liftoff Lab
DESCRIPTION:
URL:https://www.angierchamber.org/event/harnett-liftoff-lab/
LOCATION:harnett health sciences center\, 51 Red Mulberry Way\, Lillington\, NC\, 27546\, United States
ATTACH;FMTTYPE=image/png:https://www.angierchamber.org/wp-content/uploads/2025/06/cccc-liftoff.png
END:VEVENT
BEGIN:VEVENT
DTSTART;VALUE=DATE:20251001
DTEND;VALUE=DATE:20251220
DTSTAMP:20260424T210642
CREATED:20251010T172921Z
LAST-MODIFIED:20251010T172923Z
UID:10000912-1759276800-1766188799@www.angierchamber.org
SUMMARY:To Make a Child Smile Food Drive
DESCRIPTION:To Make A Child Smile Holiday Food Drive \nTo Make a Child Smile is partnering with local Harnett County schools to identify children and families in need. On Sunday\, December 21st\, volunteers will take these children Christmas shopping\, and the goal is to provide each family with a box of food so they can enjoy a warm holiday meal together. \nWe’re accepting non-perishable food donations such as canned goods\, instant potatoes\, rice\, pasta\, and other pantry staples.
URL:https://www.angierchamber.org/event/to-make-a-child-smile-food-drive/
LOCATION:NC
ATTACH;FMTTYPE=image/jpeg:https://www.angierchamber.org/wp-content/uploads/2025/10/559155723_1209783644502165_5867660157540676353_n.jpg
END:VEVENT
BEGIN:VEVENT
DTSTART;TZID=UTC:20251009T100000
DTEND;TZID=UTC:20251009T110000
DTSTAMP:20260424T210642
CREATED:20250731T152153Z
LAST-MODIFIED:20250731T152154Z
UID:10000709-1760004000-1760007600@www.angierchamber.org
SUMMARY:Kinderjam Music Class with Ellington Studios
DESCRIPTION:
URL:https://www.angierchamber.org/event/kinderjam-music-class-with-ellington-studios-10/
LOCATION:Ellington Studios\, 54 South Raleigh Street\, Angier\, NC\, 27501\, United States
END:VEVENT
BEGIN:VEVENT
DTSTART;TZID=UTC:20251009T180000
DTEND;TZID=UTC:20251009T190000
DTSTAMP:20260424T210642
CREATED:20241216T205231Z
LAST-MODIFIED:20241216T205232Z
UID:10000029-1760032800-1760036400@www.angierchamber.org
SUMMARY:Ice Cream Networking Social
DESCRIPTION:Meet local professionals as we come together at The Little Goat Soda Fountain – one of Angier’s sweetest treat stops for an Ice Cream Networking Social! It’s the perfect way for our member small businesses to engage with our community\, share information about their small business\, and have fun over a sweet treat or two! You will have the opportunity to exchange business cards\, tell us about your small business\, and make new business contacts. \nThis event is only open to current members of the Angier Chamber of Commerce. If you’re not a member\, we’d love to have you join us. You can join by clicking on the link below or by visiting www.angierchamber.org. \nhttps://www.angierchamber.org/join-online/ \nEach attendee will be responsible for the cost of their sweet treat(s). \nWe hope to see you there!
URL:https://www.angierchamber.org/event/ice-cream-networking-social-7/
LOCATION:The Little Goat Soda Fountain and Candy\, 28 East Depot Street\, Angier\, NC\, 27501
ATTACH;FMTTYPE=image/png:https://www.angierchamber.org/wp-content/uploads/2024/12/Little-Goat-3-1.png
ORGANIZER;CN="Angier Chamber of Commerce":MAILTO:angiercc@angierchamber.org
END:VEVENT
BEGIN:VEVENT
DTSTART;TZID=UTC:20251009T180000
DTEND;TZID=UTC:20251009T190000
DTSTAMP:20260424T210642
CREATED:20250929T161245Z
LAST-MODIFIED:20250929T161246Z
UID:10000854-1760032800-1760036400@www.angierchamber.org
SUMMARY:Pilates at the ACOC with Michelle Moore Fitness Nutrition and Wellness
DESCRIPTION:
URL:https://www.angierchamber.org/event/pilates-at-the-acoc-with-michelle-moore-fitness-nutrition-and-wellness-4/
LOCATION:Angier Chamber of Commerce\, United States
ATTACH;FMTTYPE=image/jpeg:https://www.angierchamber.org/wp-content/uploads/2025/09/550682253_807746458628655_466220101978638418_n.jpg
ORGANIZER;CN="Michelle Moore Fitness%2C Nutrition%2C and Wellness":MAILTO:Mmooreblessed@gmail.com
END:VEVENT
END:VCALENDAR