BEGIN:VCALENDAR
VERSION:2.0
PRODID:-//Angier Chamber of Commerce - ECPv6.15.18//NONSGML v1.0//EN
CALSCALE:GREGORIAN
METHOD:PUBLISH
X-ORIGINAL-URL:https://www.angierchamber.org
X-WR-CALDESC:Events for Angier Chamber of Commerce
REFRESH-INTERVAL;VALUE=DURATION:PT1H
X-Robots-Tag:noindex
X-PUBLISHED-TTL:PT1H
BEGIN:VTIMEZONE
TZID:UTC
BEGIN:STANDARD
TZOFFSETFROM:+0000
TZOFFSETTO:+0000
TZNAME:UTC
DTSTART:20240101T000000
END:STANDARD
END:VTIMEZONE
BEGIN:VEVENT
DTSTART;TZID=UTC:20250911T180000
DTEND;TZID=UTC:20251106T210000
DTSTAMP:20260424T210757
CREATED:20250630T190822Z
LAST-MODIFIED:20250630T191023Z
UID:10000595-1757613600-1762462800@www.angierchamber.org
SUMMARY:Harnett Liftoff Lab
DESCRIPTION:
URL:https://www.angierchamber.org/event/harnett-liftoff-lab/
LOCATION:harnett health sciences center\, 51 Red Mulberry Way\, Lillington\, NC\, 27546\, United States
ATTACH;FMTTYPE=image/png:https://www.angierchamber.org/wp-content/uploads/2025/06/cccc-liftoff.png
END:VEVENT
BEGIN:VEVENT
DTSTART;VALUE=DATE:20251001
DTEND;VALUE=DATE:20251220
DTSTAMP:20260424T210757
CREATED:20251010T172921Z
LAST-MODIFIED:20251010T172923Z
UID:10000912-1759276800-1766188799@www.angierchamber.org
SUMMARY:To Make a Child Smile Food Drive
DESCRIPTION:To Make A Child Smile Holiday Food Drive \nTo Make a Child Smile is partnering with local Harnett County schools to identify children and families in need. On Sunday\, December 21st\, volunteers will take these children Christmas shopping\, and the goal is to provide each family with a box of food so they can enjoy a warm holiday meal together. \nWe’re accepting non-perishable food donations such as canned goods\, instant potatoes\, rice\, pasta\, and other pantry staples.
URL:https://www.angierchamber.org/event/to-make-a-child-smile-food-drive/
LOCATION:NC
ATTACH;FMTTYPE=image/jpeg:https://www.angierchamber.org/wp-content/uploads/2025/10/559155723_1209783644502165_5867660157540676353_n.jpg
END:VEVENT
BEGIN:VEVENT
DTSTART;TZID=UTC:20251007T103000
DTEND;TZID=UTC:20251007T113000
DTSTAMP:20260424T210757
CREATED:20250827T190708Z
LAST-MODIFIED:20250827T190710Z
UID:10000810-1759833000-1759836600@www.angierchamber.org
SUMMARY:Treat and Tales with a First Responder
DESCRIPTION:
URL:https://www.angierchamber.org/event/treat-and-tales-with-a-first-responder/
LOCATION:Angier Depot Square/R.H. Ellington Grounds\, United States
END:VEVENT
BEGIN:VEVENT
DTSTART;TZID=UTC:20251007T190000
DTEND;TZID=UTC:20251007T210000
DTSTAMP:20260424T210757
CREATED:20250929T181936Z
LAST-MODIFIED:20250929T182033Z
UID:10000885-1759863600-1759870800@www.angierchamber.org
SUMMARY:Music Trivia with Wingin' It Angier
DESCRIPTION:
URL:https://www.angierchamber.org/event/music-trivia-with-wingin-it-angier/
LOCATION:Wingin’ It-Angier\, 546 W Church Street\, Angier\, NC\, 27501
ATTACH;FMTTYPE=image/jpeg:https://www.angierchamber.org/wp-content/uploads/2025/09/548547170_668666322939442_6083147841179008915_n.jpg
END:VEVENT
BEGIN:VEVENT
DTSTART;TZID=UTC:20251007T203000
DTEND;TZID=UTC:20251007T220000
DTSTAMP:20260424T210757
CREATED:20250929T152511Z
LAST-MODIFIED:20250929T152513Z
UID:10000839-1759869000-1759874400@www.angierchamber.org
SUMMARY:Karaoke with Napper Tandy's
DESCRIPTION:
URL:https://www.angierchamber.org/event/karaoke-with-napper-tandys/
LOCATION:Napper Tandy’s Public House and Restaurant\, 27 South Broad Street East\, Angier\, NC\, 27501\, United States
ATTACH;FMTTYPE=image/jpeg:https://www.angierchamber.org/wp-content/uploads/2025/09/552833982_122139454610655911_5150142279370209398_n.jpg
END:VEVENT
END:VCALENDAR